BEGIN:VCALENDAR
PRODID:-//AT Content Types//AT Event//EN
VERSION:2.0
METHOD:PUBLISH
BEGIN:VEVENT
DTSTAMP:20260420T084141Z
CREATED:20200114T084719Z
UID:ATEvent-4029c98d0b2a4e9e829017353304e34d
LAST-MODIFIED:20200114T085601Z
SUMMARY:Vœux perpétuels de Sr Margaritha Kim Yeon-Ju.
DTSTART:20200202T230000Z
DTEND:20200202T230000Z
LOCATION:Andong en Corée
CLASS:PUBLIC
END:VEVENT
END:VCALENDAR
